BEGIN:VCALENDAR
VERSION:2.0
PRODID:icalendar-ruby
CALSCALE:GREGORIAN
BEGIN:VEVENT
DTSTAMP:20210119T054904Z
UID:df762205-b6d2-4166-abfb-481c871b465a
DTSTART;VALUE=DATE:20191031
DESCRIPTION:Property ID# 463375\, Time: 12:00PM
SUMMARY:Auction for 
END:VEVENT
END:VCALENDAR
