BEGIN:VCALENDAR
VERSION:2.0
PRODID:icalendar-ruby
CALSCALE:GREGORIAN
BEGIN:VEVENT
DTSTAMP:20210119T054831Z
UID:29120383-87ec-482d-85b2-7bd56a2eb77b
DTSTART;VALUE=DATE:20191107
DESCRIPTION:Property ID# 464879\, Locatoin: Ray White Glenfield\, 385 Glenf
 ield Road\, Level 5 Shop 501\, Glenfield Mall\, Glenfield\, Time: 12:00PM
SUMMARY:Auction for 
END:VEVENT
END:VCALENDAR
