BEGIN:VCALENDAR
VERSION:2.0
PRODID:icalendar-ruby
CALSCALE:GREGORIAN
BEGIN:VEVENT
DTSTAMP:20210119T054827Z
UID:0ebfe165-020e-4e37-b2fb-52fc080853ac
DTSTART;VALUE=DATE:20200225
DESCRIPTION:Property ID# 472376\, Locatoin: On Site\, Time: 6:00PM
SUMMARY:Auction for 
END:VEVENT
END:VCALENDAR
