BEGIN:VCALENDAR
VERSION:2.0
PRODID:icalendar-ruby
CALSCALE:GREGORIAN
BEGIN:VEVENT
DTSTAMP:20210119T054759Z
UID:89a66bc4-a680-4cd8-98d6-fef2914be636
DTSTART;VALUE=DATE:20200707
DESCRIPTION:Property ID# 483354\, Time: 4:00PM
SUMMARY:Auction for 
END:VEVENT
END:VCALENDAR
