BEGIN:VCALENDAR
VERSION:2.0
PRODID:icalendar-ruby
CALSCALE:GREGORIAN
BEGIN:VEVENT
DTSTAMP:20210119T054916Z
UID:73feb8c5-5073-4b65-96a9-0c28d01d7034
DTSTART;VALUE=DATE:20200822
DESCRIPTION:Property ID# 486149\, Locatoin: In Room - Ray White Pinehill Of
 fice (537A East Coast Rd\, Browns Bay)\, Time: 4:30PM
SUMMARY:Auction for 
END:VEVENT
END:VCALENDAR
