BEGIN:VCALENDAR
VERSION:2.0
PRODID:icalendar-ruby
CALSCALE:GREGORIAN
BEGIN:VEVENT
DTSTAMP:20210119T054824Z
UID:719f86ae-bd0a-4d27-b48c-a488e86395cc
DTSTART;VALUE=DATE:20200921
DESCRIPTION:Property ID# 489200\, Locatoin: On Site\, Time: 6:00PM
SUMMARY:Auction for 
END:VEVENT
END:VCALENDAR
