BEGIN:VCALENDAR
VERSION:2.0
PRODID:icalendar-ruby
CALSCALE:GREGORIAN
BEGIN:VEVENT
DTSTAMP:20210119T054909Z
UID:6a0cec73-d3c5-4c86-9396-2a4ff2a12b48
DTSTART;VALUE=DATE:20201017
DESCRIPTION:Property ID# 490797\, Locatoin: In Room - Ray White Pinehill Of
 fice (537A East Coast Rd\, Browns Bay)\, Time: 3:00PM
SUMMARY:Auction for 
END:VEVENT
END:VCALENDAR
