BEGIN:VCALENDAR
VERSION:2.0
PRODID:icalendar-ruby
CALSCALE:GREGORIAN
BEGIN:VEVENT
DTSTAMP:20210119T054805Z
UID:9e41962e-34fd-4ee0-b529-8b386d9c30cf
DTSTART;VALUE=DATE:20201015
DESCRIPTION:Property ID# 490959\, Time: 6:30PM
SUMMARY:Auction for 
END:VEVENT
END:VCALENDAR
