BEGIN:VCALENDAR
VERSION:2.0
PRODID:icalendar-ruby
CALSCALE:GREGORIAN
BEGIN:VEVENT
DTSTAMP:20210119T054900Z
UID:f868c8f4-6468-458f-9d63-1b98553436d3
DTSTART;VALUE=DATE:20201029
DESCRIPTION:Property ID# 492016\, Time: 6:30PM
SUMMARY:Auction for 
END:VEVENT
END:VCALENDAR
