BEGIN:VCALENDAR
VERSION:2.0
PRODID:icalendar-ruby
CALSCALE:GREGORIAN
BEGIN:VEVENT
DTSTAMP:20210119T054934Z
UID:f1ab5338-ef36-40c4-b4ac-0f170305ba8f
DTSTART;VALUE=DATE:20201112
DESCRIPTION:Property ID# 492444\, Time: 4:00PM
SUMMARY:Auction for 
END:VEVENT
END:VCALENDAR
