BEGIN:VCALENDAR
VERSION:2.0
PRODID:icalendar-ruby
CALSCALE:GREGORIAN
BEGIN:VEVENT
DTSTAMP:20210119T060820Z
UID:336775ce-c322-4359-b1ce-2679fd1d39b9
DTSTART;VALUE=DATE:20201122
DESCRIPTION:Property ID# 494024\, Locatoin: Onsite at 2:30pm\, Time: 12:00P
 M
SUMMARY:Auction for 
END:VEVENT
END:VCALENDAR
