BEGIN:VCALENDAR
VERSION:2.0
PRODID:icalendar-ruby
CALSCALE:GREGORIAN
BEGIN:VEVENT
DTSTAMP:20210119T054819Z
UID:a6ac974f-9e97-4fd9-82e1-d9247d80c595
DTSTART;VALUE=DATE:20201126
DESCRIPTION:Property ID# 494484\, Locatoin: Ray White Pinehill\, 537 East C
 oast Road\, Pinehill\, Time: 4:00PM
SUMMARY:Auction for 
END:VEVENT
END:VCALENDAR
