BEGIN:VCALENDAR
VERSION:2.0
PRODID:icalendar-ruby
CALSCALE:GREGORIAN
BEGIN:VEVENT
DTSTAMP:20210119T054855Z
UID:1e9b4826-4287-4ccb-8e99-0f7c99bdec73
DTSTART;VALUE=DATE:20201202
DESCRIPTION:Property ID# 496029\, Time: 6:00PM
SUMMARY:Auction for 
END:VEVENT
END:VCALENDAR
