BEGIN:VCALENDAR
VERSION:2.0
PRODID:icalendar-ruby
CALSCALE:GREGORIAN
BEGIN:VEVENT
DTSTAMP:20210119T054929Z
UID:6e45787a-c657-412d-a8eb-450fccc13fb5
DTSTART;VALUE=DATE:20210218
DESCRIPTION:Property ID# 499895\, Time: 4:00PM
SUMMARY:Auction for 
END:VEVENT
END:VCALENDAR
