BEGIN:VCALENDAR
VERSION:2.0
PRODID:icalendar-ruby
CALSCALE:GREGORIAN
BEGIN:VEVENT
DTSTAMP:20260422T143018Z
UID:c5ad77f7-40dd-4883-99db-247d3d178859
DTSTART;VALUE=DATE:20210412
DESCRIPTION:Property ID# 504850\, Locatoin: In rooms\, Time: 6:00PM
SUMMARY:Auction for 
END:VEVENT
END:VCALENDAR
