BEGIN:VCALENDAR
VERSION:2.0
PRODID:icalendar-ruby
CALSCALE:GREGORIAN
BEGIN:VEVENT
DTSTAMP:20260421T131636Z
UID:f58a5fe5-ad15-46c6-a7b5-c4e2032a45f7
DTSTART;VALUE=DATE:20240912
DESCRIPTION:Property ID# 579653\, Time: 12:00PM
SUMMARY:Auction for 
END:VEVENT
END:VCALENDAR
