BEGIN:VCALENDAR
VERSION:2.0
PRODID:icalendar-ruby
CALSCALE:GREGORIAN
BEGIN:VEVENT
DTSTAMP:20260421T153525Z
UID:90b2afd1-36ca-402e-81be-2e41581d2d7a
DTSTART;VALUE=DATE:20250911
DESCRIPTION:Property ID# 594408\, Time: 4:00PM
SUMMARY:Auction for 
END:VEVENT
END:VCALENDAR
