BEGIN:VCALENDAR
VERSION:2.0
PRODID:icalendar-ruby
CALSCALE:GREGORIAN
BEGIN:VEVENT
DTSTAMP:20260421T131823Z
UID:c9fc518c-5bba-4ff2-bab4-59773578bec8
DTSTART;VALUE=DATE:20251204
DESCRIPTION:Property ID# 600051\, Locatoin: In Rooms\, 128 Hurstmere Rd Tak
 apuna\, Time: 12:00PM
SUMMARY:Auction for 
END:VEVENT
END:VCALENDAR
