BEGIN:VCALENDAR
VERSION:2.0
PRODID:icalendar-ruby
CALSCALE:GREGORIAN
BEGIN:VEVENT
DTSTAMP:20260421T155148Z
UID:e63563c0-e205-4d22-b652-e51e888081e0
DTSTART;VALUE=DATE:20260514
DESCRIPTION:Property ID# 604725\, Time: 4:00PM
SUMMARY:Auction for 34 Muritai Road
END:VEVENT
END:VCALENDAR
