BEGIN:VCALENDAR
VERSION:2.0
PRODID:icalendar-ruby
CALSCALE:GREGORIAN
BEGIN:VEVENT
DTSTAMP:20260421T154200Z
UID:a5eb7053-aa90-44f0-ba78-21481f2db7af
DTSTART;VALUE=DATE:20260430
DESCRIPTION:Property ID# 605482\, Time: 4:00PM
SUMMARY:Auction for 44 Milford Road
END:VEVENT
END:VCALENDAR
