BEGIN:VCALENDAR
VERSION:2.0
PRODID:icalendar-ruby
CALSCALE:GREGORIAN
BEGIN:VEVENT
DTSTAMP:20260421T153322Z
UID:b6622392-33bf-4208-a86b-967a3df78b57
DTSTART;VALUE=DATE:20260506
DESCRIPTION:Property ID# 606332\, Time: 4:00PM
SUMMARY:Auction for 2/10 Sylvan Park Avenue
END:VEVENT
END:VCALENDAR
